BEGIN:VCALENDAR
VERSION:2.0
PRODID:-//Stonebridge Men&#039;s Club - ECPv6.15.14//NONSGML v1.0//EN
CALSCALE:GREGORIAN
METHOD:PUBLISH
X-WR-CALNAME:Stonebridge Men&#039;s Club
X-ORIGINAL-URL:https://stonebridgemensclub.com
X-WR-CALDESC:Events for Stonebridge Men&#039;s Club
REFRESH-INTERVAL;VALUE=DURATION:PT1H
X-Robots-Tag:noindex
X-PUBLISHED-TTL:PT1H
BEGIN:VTIMEZONE
TZID:America/New_York
BEGIN:DAYLIGHT
TZOFFSETFROM:-0500
TZOFFSETTO:-0400
TZNAME:EDT
DTSTART:20210314T070000
END:DAYLIGHT
BEGIN:STANDARD
TZOFFSETFROM:-0400
TZOFFSETTO:-0500
TZNAME:EST
DTSTART:20211107T060000
END:STANDARD
BEGIN:DAYLIGHT
TZOFFSETFROM:-0500
TZOFFSETTO:-0400
TZNAME:EDT
DTSTART:20220313T070000
END:DAYLIGHT
BEGIN:STANDARD
TZOFFSETFROM:-0400
TZOFFSETTO:-0500
TZNAME:EST
DTSTART:20221106T060000
END:STANDARD
BEGIN:DAYLIGHT
TZOFFSETFROM:-0500
TZOFFSETTO:-0400
TZNAME:EDT
DTSTART:20230312T070000
END:DAYLIGHT
BEGIN:STANDARD
TZOFFSETFROM:-0400
TZOFFSETTO:-0500
TZNAME:EST
DTSTART:20231105T060000
END:STANDARD
BEGIN:DAYLIGHT
TZOFFSETFROM:-0500
TZOFFSETTO:-0400
TZNAME:EDT
DTSTART:20240310T070000
END:DAYLIGHT
BEGIN:STANDARD
TZOFFSETFROM:-0400
TZOFFSETTO:-0500
TZNAME:EST
DTSTART:20241103T060000
END:STANDARD
END:VTIMEZONE
BEGIN:VEVENT
DTSTART;TZID=America/New_York:20230929T200000
DTEND;TZID=America/New_York:20230929T220000
DTSTAMP:20260423T145700
CREATED:20230911T234419Z
LAST-MODIFIED:20230911T235000Z
UID:2906-1696017600-1696024800@stonebridgemensclub.com
SUMMARY:Comedy for Service Dog  Sept 29
DESCRIPTION:
URL:https://stonebridgemensclub.com/event/comedy-for-service-dog-sept-29/
LOCATION:Clubhouse Ballroom
ATTACH;FMTTYPE=image/jpeg:https://stonebridgemensclub.com/wp-content/uploads/2023/09/Comedy-Night-Sept-29.jpg
END:VEVENT
BEGIN:VEVENT
DTSTART;TZID=America/New_York:20230918T190000
DTEND;TZID=America/New_York:20230918T203000
DTSTAMP:20260423T145700
CREATED:20230911T174300Z
LAST-MODIFIED:20230911T174439Z
UID:2885-1695063600-1695069000@stonebridgemensclub.com
SUMMARY:To Afghanistan and Back
DESCRIPTION:
URL:https://stonebridgemensclub.com/event/to-afghanistan-and-back/
LOCATION:Clubhouse Ballroom
ATTACH;FMTTYPE=image/jpeg:https://stonebridgemensclub.com/wp-content/uploads/2023/09/Afghan-Sept-18.jpg
END:VEVENT
BEGIN:VEVENT
DTSTART;TZID=America/New_York:20230908T120000
DTEND;TZID=America/New_York:20230908T170000
DTSTAMP:20260423T145700
CREATED:20230514T144421Z
LAST-MODIFIED:20230609T132753Z
UID:2786-1694174400-1694192400@stonebridgemensclub.com
SUMMARY:Races and Lunch Sept 8
DESCRIPTION:
URL:https://stonebridgemensclub.com/event/save-date-sept-8-at-the-races/
LOCATION:Freehold Raceway\, 130 Park Ave\, Freehold\, NJ\, 07728
ATTACH;FMTTYPE=image/jpeg:https://stonebridgemensclub.com/wp-content/uploads/2023/06/Race_lunch-Sep-8.jpg
END:VEVENT
BEGIN:VEVENT
DTSTART;TZID=America/New_York:20230810T190000
DTEND;TZID=America/New_York:20230810T220000
DTSTAMP:20260423T145700
CREATED:20230514T140143Z
LAST-MODIFIED:20230530T143454Z
UID:2783-1691694000-1691704800@stonebridgemensclub.com
SUMMARY:Baseball Game August 10
DESCRIPTION:
URL:https://stonebridgemensclub.com/event/baseball-game-august-10/
LOCATION:TD Bank Ball Park – Bridgewater\, NJ\, United States
ATTACH;FMTTYPE=image/jpeg:https://stonebridgemensclub.com/wp-content/uploads/2023/05/Baseballgame-Aug-10.jpg
END:VEVENT
BEGIN:VEVENT
DTSTART;TZID=America/New_York:20230807T080000
DTEND;TZID=America/New_York:20230807T170000
DTSTAMP:20260423T145700
CREATED:20230418T180250Z
LAST-MODIFIED:20230603T191401Z
UID:2762-1691395200-1691427600@stonebridgemensclub.com
SUMMARY:Charity Golf Outing Aug 7
DESCRIPTION:
URL:https://stonebridgemensclub.com/event/save-date-charity-golf-aug-7/
LOCATION:Concordia Golf Course
ATTACH;FMTTYPE=image/jpeg:https://stonebridgemensclub.com/wp-content/uploads/2023/05/Golf-Outing-Aug-7.jpg
END:VEVENT
BEGIN:VEVENT
DTSTART;TZID=America/New_York:20230729T113000
DTEND;TZID=America/New_York:20230729T153000
DTSTAMP:20260423T145700
CREATED:20230706T180802Z
LAST-MODIFIED:20230706T181312Z
UID:2857-1690630200-1690644600@stonebridgemensclub.com
SUMMARY:Details on 'Prostate Support' Page July 29
DESCRIPTION:
URL:https://stonebridgemensclub.com/event/details-on-events-page-jul-29/
LOCATION:On-Line
ATTACH;FMTTYPE=image/png:https://stonebridgemensclub.com/wp-content/uploads/2023/07/Health-conf-shot.png
END:VEVENT
BEGIN:VEVENT
DTSTART;TZID=America/New_York:20230724T190000
DTEND;TZID=America/New_York:20230724T203000
DTSTAMP:20260423T145700
CREATED:20230705T151711Z
LAST-MODIFIED:20230705T151711Z
UID:2849-1690225200-1690230600@stonebridgemensclub.com
SUMMARY:Trivia Guy July 24
DESCRIPTION:
URL:https://stonebridgemensclub.com/event/trivia-guy-july-24/
LOCATION:Clubhouse Ballroom
ATTACH;FMTTYPE=image/jpeg:https://stonebridgemensclub.com/wp-content/uploads/2023/07/Trivia-July-24.jpeg
END:VEVENT
BEGIN:VEVENT
DTSTART;TZID=America/New_York:20230626T190000
DTEND;TZID=America/New_York:20230626T203000
DTSTAMP:20260423T145700
CREATED:20230603T190647Z
LAST-MODIFIED:20230603T192344Z
UID:2816-1687806000-1687811400@stonebridgemensclub.com
SUMMARY:Hypnotist\, Mentalist June 26
DESCRIPTION:
URL:https://stonebridgemensclub.com/event/hypnotist-mentalist-june-26/
LOCATION:Clubhouse Ballroom
ATTACH;FMTTYPE=image/jpeg:https://stonebridgemensclub.com/wp-content/uploads/2023/06/Hypnotist-Jun-26.jpg
END:VEVENT
BEGIN:VEVENT
DTSTART;TZID=America/New_York:20230522T190000
DTEND;TZID=America/New_York:20230522T203000
DTSTAMP:20260423T145700
CREATED:20230417T190138Z
LAST-MODIFIED:20230417T190307Z
UID:2753-1684782000-1684787400@stonebridgemensclub.com
SUMMARY:About Abe Lincoln May 22
DESCRIPTION:
URL:https://stonebridgemensclub.com/event/about-abe-lincoln-may-23/
LOCATION:Clubhouse Ballroom
ATTACH;FMTTYPE=image/jpeg:https://stonebridgemensclub.com/wp-content/uploads/2023/04/LeBoeuf_Lincoln-May-23.jpg
END:VEVENT
BEGIN:VEVENT
DTSTART;TZID=America/New_York:20230422T090000
DTEND;TZID=America/New_York:20230422T110000
DTSTAMP:20260423T145700
CREATED:20230307T214341Z
LAST-MODIFIED:20230413T204938Z
UID:2723-1682154000-1682161200@stonebridgemensclub.com
SUMMARY:Laugh During April 22 Breakfast
DESCRIPTION:
URL:https://stonebridgemensclub.com/event/laugh-during-april-22-breakfast/
LOCATION:Clubhouse Ballroom
ATTACH;FMTTYPE=image/jpeg:https://stonebridgemensclub.com/wp-content/uploads/2023/04/Vorensky-Comedy-Apr-22.jpg
END:VEVENT
BEGIN:VEVENT
DTSTART;TZID=America/New_York:20230327T190000
DTEND;TZID=America/New_York:20230327T203000
DTSTAMP:20260423T145700
CREATED:20230226T054337Z
LAST-MODIFIED:20230303T214737Z
UID:2669-1679943600-1679949000@stonebridgemensclub.com
SUMMARY:Remember the Dodgers at Ebbets Field
DESCRIPTION:
URL:https://stonebridgemensclub.com/event/remember-the-dodgers-at-ebbetts-field/
LOCATION:Clubhouse Ballroom
ATTACH;FMTTYPE=image/jpeg:https://stonebridgemensclub.com/wp-content/uploads/2023/03/BrooklynDodgers_Zinn-Mar-27-2023.jpg
END:VEVENT
BEGIN:VEVENT
DTSTART;TZID=America/New_York:20230301T080000
DTEND;TZID=America/New_York:20230316T120000
DTSTAMP:20260423T145700
CREATED:20230301T192712Z
LAST-MODIFIED:20230301T194809Z
UID:2701-1677657600-1678968000@stonebridgemensclub.com
SUMMARY:2023 March Madness Pool
DESCRIPTION:2023 MarchMadnessPool
URL:https://stonebridgemensclub.com/event/2023-march-madness-pool/
LOCATION:Men’s Club Sponsering
ATTACH;FMTTYPE=image/jpeg:https://stonebridgemensclub.com/wp-content/uploads/2023/03/2023-MarchMadnessPool.jpg
END:VEVENT
BEGIN:VEVENT
DTSTART;TZID=America/New_York:20230227T190000
DTEND;TZID=America/New_York:20230227T203000
DTSTAMP:20260423T145700
CREATED:20230123T222606Z
LAST-MODIFIED:20230208T203713Z
UID:2653-1677524400-1677529800@stonebridgemensclub.com
SUMMARY:RCA Labs - Consumer Electronics Pioneer
DESCRIPTION:
URL:https://stonebridgemensclub.com/event/rca-labs-consumer-electronics-pioneer/
LOCATION:Clubhouse Ballroom
ATTACH;FMTTYPE=image/jpeg:https://stonebridgemensclub.com/wp-content/uploads/2023/02/RCA_Magoun-Feb-27-2023.jpg
END:VEVENT
BEGIN:VEVENT
DTSTART;TZID=America/New_York:20230123T190000
DTEND;TZID=America/New_York:20230123T203000
DTSTAMP:20260423T145700
CREATED:20221222T222047Z
LAST-MODIFIED:20221222T222047Z
UID:2596-1674500400-1674505800@stonebridgemensclub.com
SUMMARY:Football Star with ties to Stonebridge
DESCRIPTION:
URL:https://stonebridgemensclub.com/event/football-star-with-ties-to-stonebridge/
ATTACH;FMTTYPE=image/jpeg:https://stonebridgemensclub.com/wp-content/uploads/2022/12/JZuttah-Jan-23-2023-scaled.jpg
END:VEVENT
BEGIN:VEVENT
DTSTART;TZID=America/New_York:20221215T190000
DTEND;TZID=America/New_York:20221215T210000
DTSTAMP:20260423T145700
CREATED:20221107T215048Z
LAST-MODIFIED:20221107T215048Z
UID:2537-1671130800-1671138000@stonebridgemensclub.com
SUMMARY:Holiday Party
DESCRIPTION:Holiday Party Dec 15
URL:https://stonebridgemensclub.com/event/holiday-party/
LOCATION:Clubhouse Ballroom
END:VEVENT
BEGIN:VEVENT
DTSTART;TZID=America/New_York:20221128T190000
DTEND;TZID=America/New_York:20221128T203000
DTSTAMP:20260423T145700
CREATED:20221011T012911Z
LAST-MODIFIED:20221011T013456Z
UID:2516-1669662000-1669667400@stonebridgemensclub.com
SUMMARY:Political Cartooning
DESCRIPTION:Political Cartooning Nov 28 2022
URL:https://stonebridgemensclub.com/event/political-cartooning/
LOCATION:Clubhouse Ballroom
END:VEVENT
BEGIN:VEVENT
DTSTART;TZID=America/New_York:20221114T190000
DTEND;TZID=America/New_York:20221114T200000
DTSTAMP:20260423T145700
CREATED:20221106T224043Z
LAST-MODIFIED:20221106T224043Z
UID:2528-1668452400-1668456000@stonebridgemensclub.com
SUMMARY:Prostate Cancer Support Group
DESCRIPTION:Prostate Support Nov 14
URL:https://stonebridgemensclub.com/event/prostate-cancer-support-group/
END:VEVENT
BEGIN:VEVENT
DTSTART;TZID=America/New_York:20221017T190000
DTEND;TZID=America/New_York:20221017T220000
DTSTAMP:20260423T145700
CREATED:20220913T160547Z
LAST-MODIFIED:20220922T012040Z
UID:2492-1666033200-1666044000@stonebridgemensclub.com
SUMMARY:Octoberfeast eat-drink with G Carlin
DESCRIPTION:OctoberfeastR Oct 17 2022
URL:https://stonebridgemensclub.com/event/octoberfeast-eat-drink-w-g-carlin/
LOCATION:Clubhouse Ballroom
END:VEVENT
BEGIN:VEVENT
DTSTART;TZID=America/New_York:20221017T190000
DTEND;TZID=America/New_York:20221017T210000
DTSTAMP:20260423T145700
CREATED:20221221T021357Z
LAST-MODIFIED:20221222T223617Z
UID:2580-1666033200-1666040400@stonebridgemensclub.com
SUMMARY:OctoberFeast with G Carlin Highlights
DESCRIPTION:
URL:https://stonebridgemensclub.com/event/octoberfeast-with-g-carlin-highlights/
ATTACH;FMTTYPE=image/jpeg:https://stonebridgemensclub.com/wp-content/uploads/2022/09/OctoberfeastR-Oct-17-2022.jpg
END:VEVENT
BEGIN:VEVENT
DTSTART;TZID=America/New_York:20220916T120000
DTEND;TZID=America/New_York:20220916T170000
DTSTAMP:20260423T145700
CREATED:20220822T210040Z
LAST-MODIFIED:20220822T210040Z
UID:2472-1663329600-1663347600@stonebridgemensclub.com
SUMMARY:Afternoon at Freehold Raceway
DESCRIPTION:Freehold Raceway Sep 16 2022
URL:https://stonebridgemensclub.com/event/afternoon-at-freehold-raceway/
LOCATION:Freehold Raceway\, 130 Park Ave\, Freehold\, NJ\, 07728
END:VEVENT
BEGIN:VEVENT
DTSTART;TZID=America/New_York:20220822T190000
DTEND;TZID=America/New_York:20220822T203000
DTSTAMP:20260423T145700
CREATED:20221221T124937Z
LAST-MODIFIED:20221221T124937Z
UID:2583-1661194800-1661200200@stonebridgemensclub.com
SUMMARY:Real Life Drug Bust
DESCRIPTION:
URL:https://stonebridgemensclub.com/event/real-life-drug-bust/
LOCATION:Clubhouse Ballroom
END:VEVENT
BEGIN:VEVENT
DTSTART;TZID=America/New_York:20220822T190000
DTEND;TZID=America/New_York:20220822T203000
DTSTAMP:20260423T145700
CREATED:20220801T191801Z
LAST-MODIFIED:20220801T192045Z
UID:2461-1661194800-1661200200@stonebridgemensclub.com
SUMMARY:Real Life Drug Bust Cop - Aug 22
DESCRIPTION:Drug Bust Cop Aug 22 2022
URL:https://stonebridgemensclub.com/event/real-life-drug-bust-cop-aug-22/
END:VEVENT
BEGIN:VEVENT
DTSTART;TZID=America/New_York:20220816T073000
DTEND;TZID=America/New_York:20220816T150000
DTSTAMP:20260423T145700
CREATED:20220612T182721Z
LAST-MODIFIED:20220612T183149Z
UID:2428-1660635000-1660662000@stonebridgemensclub.com
SUMMARY:Charity Golf Outing - Aug 16
DESCRIPTION:Charity Golf Outing – Aug 16
URL:https://stonebridgemensclub.com/event/charity-golf-outing-aug-16/
LOCATION:Concordia Golf Course
END:VEVENT
BEGIN:VEVENT
DTSTART;TZID=America/New_York:20220804T190000
DTEND;TZID=America/New_York:20220804T220000
DTSTAMP:20260423T145700
CREATED:20220607T025216Z
LAST-MODIFIED:20220609T014252Z
UID:2415-1659639600-1659650400@stonebridgemensclub.com
SUMMARY:Yankee/Mets Farm Teams
DESCRIPTION:To the Ballgame – Aug 4 2022
URL:https://stonebridgemensclub.com/event/yankee-mets-farm-teams-aug-4/
LOCATION:TD Bank Ball Park – Bridgewater\, NJ\, United States
END:VEVENT
BEGIN:VEVENT
DTSTART;TZID=America/New_York:20220725T190000
DTEND;TZID=America/New_York:20220725T203000
DTSTAMP:20260423T145700
CREATED:20220712T210046Z
LAST-MODIFIED:20220712T210046Z
UID:2444-1658775600-1658781000@stonebridgemensclub.com
SUMMARY:Trivia with Roy Cohen + Eats
DESCRIPTION:Roy Cohen Trivia July 25 2022
URL:https://stonebridgemensclub.com/event/trivia-with-roy-cohen-eats/
LOCATION:Clubhouse Ballroom
END:VEVENT
BEGIN:VEVENT
DTSTART;TZID=America/New_York:20220627T190000
DTEND;TZID=America/New_York:20220627T203000
DTSTAMP:20260423T145700
CREATED:20220524T181408Z
LAST-MODIFIED:20220524T181408Z
UID:2389-1656356400-1656361800@stonebridgemensclub.com
SUMMARY:Complex Robin Williams
DESCRIPTION:Complex Robin Williams
URL:https://stonebridgemensclub.com/event/complex-robin-williams/
LOCATION:Clubhouse Ballroom
END:VEVENT
BEGIN:VEVENT
DTSTART;TZID=America/New_York:20220521T091500
DTEND;TZID=America/New_York:20220521T110000
DTSTAMP:20260423T145700
CREATED:20220424T150051Z
LAST-MODIFIED:20220424T150051Z
UID:2339-1653124500-1653130800@stonebridgemensclub.com
SUMMARY:Combining Comedy and Breakfast
DESCRIPTION:May 21 2022 breakfast
URL:https://stonebridgemensclub.com/event/combining-comedy-and-breakfast/
LOCATION:Clubhouse Ballroom
END:VEVENT
BEGIN:VEVENT
DTSTART;TZID=America/New_York:20220425T190000
DTEND;TZID=America/New_York:20220425T203000
DTSTAMP:20260423T145700
CREATED:20220410T204522Z
LAST-MODIFIED:20220410T204522Z
UID:2334-1650913200-1650918600@stonebridgemensclub.com
SUMMARY:Play Ball 2022 + Pizza
DESCRIPTION:Apr 25 2022 play ball
URL:https://stonebridgemensclub.com/event/play-ball-2022-pizza/
LOCATION:Clubhouse Ballroom
END:VEVENT
BEGIN:VEVENT
DTSTART;TZID=America/New_York:20220328T190000
DTEND;TZID=America/New_York:20220328T203000
DTSTAMP:20260423T145700
CREATED:20220307T212114Z
LAST-MODIFIED:20220307T213410Z
UID:2292-1648494000-1648499400@stonebridgemensclub.com
SUMMARY:Event Attendance Rules
DESCRIPTION:Event Attendance Rules
URL:https://stonebridgemensclub.com/event/event-attendance-rules/
LOCATION:Clubhouse Ballroom
END:VEVENT
BEGIN:VEVENT
DTSTART;TZID=America/New_York:20220328T190000
DTEND;TZID=America/New_York:20220328T203000
DTSTAMP:20260423T145700
CREATED:20220306T190444Z
LAST-MODIFIED:20220307T211118Z
UID:2283-1648494000-1648499400@stonebridgemensclub.com
SUMMARY:NFL Playoff Finishes
DESCRIPTION:Mar 28 2022 event
URL:https://stonebridgemensclub.com/event/nfl-playoff-finishes/
LOCATION:Clubhouse Ballroom
END:VEVENT
END:VCALENDAR