BEGIN:VCALENDAR
VERSION:2.0
PRODID:-//Stonebridge Men&#039;s Club - ECPv6.15.14//NONSGML v1.0//EN
CALSCALE:GREGORIAN
METHOD:PUBLISH
X-ORIGINAL-URL:https://stonebridgemensclub.com
X-WR-CALDESC:Events for Stonebridge Men&#039;s Club
REFRESH-INTERVAL;VALUE=DURATION:PT1H
X-Robots-Tag:noindex
X-PUBLISHED-TTL:PT1H
BEGIN:VTIMEZONE
TZID:America/New_York
BEGIN:DAYLIGHT
TZOFFSETFROM:-0500
TZOFFSETTO:-0400
TZNAME:EDT
DTSTART:20190310T070000
END:DAYLIGHT
BEGIN:STANDARD
TZOFFSETFROM:-0400
TZOFFSETTO:-0500
TZNAME:EST
DTSTART:20191103T060000
END:STANDARD
BEGIN:DAYLIGHT
TZOFFSETFROM:-0500
TZOFFSETTO:-0400
TZNAME:EDT
DTSTART:20200308T070000
END:DAYLIGHT
BEGIN:STANDARD
TZOFFSETFROM:-0400
TZOFFSETTO:-0500
TZNAME:EST
DTSTART:20201101T060000
END:STANDARD
BEGIN:DAYLIGHT
TZOFFSETFROM:-0500
TZOFFSETTO:-0400
TZNAME:EDT
DTSTART:20210314T070000
END:DAYLIGHT
BEGIN:STANDARD
TZOFFSETFROM:-0400
TZOFFSETTO:-0500
TZNAME:EST
DTSTART:20211107T060000
END:STANDARD
BEGIN:DAYLIGHT
TZOFFSETFROM:-0500
TZOFFSETTO:-0400
TZNAME:EDT
DTSTART:20220313T070000
END:DAYLIGHT
BEGIN:STANDARD
TZOFFSETFROM:-0400
TZOFFSETTO:-0500
TZNAME:EST
DTSTART:20221106T060000
END:STANDARD
BEGIN:DAYLIGHT
TZOFFSETFROM:-0500
TZOFFSETTO:-0400
TZNAME:EDT
DTSTART:20230312T070000
END:DAYLIGHT
BEGIN:STANDARD
TZOFFSETFROM:-0400
TZOFFSETTO:-0500
TZNAME:EST
DTSTART:20231105T060000
END:STANDARD
END:VTIMEZONE
BEGIN:VEVENT
DTSTART;TZID=America/New_York:20220725T190000
DTEND;TZID=America/New_York:20220725T203000
DTSTAMP:20260423T182039
CREATED:20220712T210046Z
LAST-MODIFIED:20220712T210046Z
UID:2444-1658775600-1658781000@stonebridgemensclub.com
SUMMARY:Trivia with Roy Cohen + Eats
DESCRIPTION:Roy Cohen Trivia July 25 2022
URL:https://stonebridgemensclub.com/event/trivia-with-roy-cohen-eats/
LOCATION:Clubhouse Ballroom
END:VEVENT
BEGIN:VEVENT
DTSTART;TZID=America/New_York:20220627T190000
DTEND;TZID=America/New_York:20220627T203000
DTSTAMP:20260423T182039
CREATED:20220524T181408Z
LAST-MODIFIED:20220524T181408Z
UID:2389-1656356400-1656361800@stonebridgemensclub.com
SUMMARY:Complex Robin Williams
DESCRIPTION:Complex Robin Williams
URL:https://stonebridgemensclub.com/event/complex-robin-williams/
LOCATION:Clubhouse Ballroom
END:VEVENT
BEGIN:VEVENT
DTSTART;TZID=America/New_York:20220521T091500
DTEND;TZID=America/New_York:20220521T110000
DTSTAMP:20260423T182039
CREATED:20220424T150051Z
LAST-MODIFIED:20220424T150051Z
UID:2339-1653124500-1653130800@stonebridgemensclub.com
SUMMARY:Combining Comedy and Breakfast
DESCRIPTION:May 21 2022 breakfast
URL:https://stonebridgemensclub.com/event/combining-comedy-and-breakfast/
LOCATION:Clubhouse Ballroom
END:VEVENT
BEGIN:VEVENT
DTSTART;TZID=America/New_York:20220425T190000
DTEND;TZID=America/New_York:20220425T203000
DTSTAMP:20260423T182039
CREATED:20220410T204522Z
LAST-MODIFIED:20220410T204522Z
UID:2334-1650913200-1650918600@stonebridgemensclub.com
SUMMARY:Play Ball 2022 + Pizza
DESCRIPTION:Apr 25 2022 play ball
URL:https://stonebridgemensclub.com/event/play-ball-2022-pizza/
LOCATION:Clubhouse Ballroom
END:VEVENT
BEGIN:VEVENT
DTSTART;TZID=America/New_York:20220328T190000
DTEND;TZID=America/New_York:20220328T203000
DTSTAMP:20260423T182039
CREATED:20220307T212114Z
LAST-MODIFIED:20220307T213410Z
UID:2292-1648494000-1648499400@stonebridgemensclub.com
SUMMARY:Event Attendance Rules
DESCRIPTION:Event Attendance Rules
URL:https://stonebridgemensclub.com/event/event-attendance-rules/
LOCATION:Clubhouse Ballroom
END:VEVENT
BEGIN:VEVENT
DTSTART;TZID=America/New_York:20220328T190000
DTEND;TZID=America/New_York:20220328T203000
DTSTAMP:20260423T182039
CREATED:20220306T190444Z
LAST-MODIFIED:20220307T211118Z
UID:2283-1648494000-1648499400@stonebridgemensclub.com
SUMMARY:NFL Playoff Finishes
DESCRIPTION:Mar 28 2022 event
URL:https://stonebridgemensclub.com/event/nfl-playoff-finishes/
LOCATION:Clubhouse Ballroom
END:VEVENT
BEGIN:VEVENT
DTSTART;TZID=America/New_York:20220228T190000
DTEND;TZID=America/New_York:20220228T210000
DTSTAMP:20260423T182039
CREATED:20220111T174139Z
LAST-MODIFIED:20220113T163202Z
UID:2179-1646074800-1646082000@stonebridgemensclub.com
SUMMARY:Supreme Court - Respectful Rivalry
DESCRIPTION:Feb 28 2022 event
URL:https://stonebridgemensclub.com/event/supreme-court-respectful-rivalry-2/
LOCATION:Men’s Club Zoom\, zoom.us
END:VEVENT
BEGIN:VEVENT
DTSTART;TZID=America/New_York:20220124T190000
DTEND;TZID=America/New_York:20220124T210000
DTSTAMP:20260423T182039
CREATED:20211222T210412Z
LAST-MODIFIED:20220113T163416Z
UID:2147-1643050800-1643058000@stonebridgemensclub.com
SUMMARY:NFL Playoff Finishes
DESCRIPTION:NFL Playoff Finishes Jan 24   Jan 24 2022 event
URL:https://stonebridgemensclub.com/event/cancelled-covid-restrictions/
LOCATION:Clubhouse Ballroom
END:VEVENT
BEGIN:VEVENT
DTSTART;TZID=America/New_York:20220110T080000
DTEND;TZID=America/New_York:20220110T170000
DTSTAMP:20260423T182039
CREATED:20220111T025659Z
LAST-MODIFIED:20220111T025855Z
UID:2170-1641801600-1641834000@stonebridgemensclub.com
SUMMARY:Supreme Court - respectful rivilary
DESCRIPTION:Feb 28 2022 event
URL:https://stonebridgemensclub.com/event/2170/
END:VEVENT
BEGIN:VEVENT
DTSTART;TZID=America/New_York:20220110T080000
DTEND;TZID=America/New_York:20220110T170000
DTSTAMP:20260423T182039
CREATED:20220111T025033Z
LAST-MODIFIED:20220111T025033Z
UID:2168-1641801600-1641834000@stonebridgemensclub.com
SUMMARY:Supreme Court - Respectful Rivalry
DESCRIPTION:Feb 28 2022 event
URL:https://stonebridgemensclub.com/event/supreme-court-respectful-rivalry/
END:VEVENT
BEGIN:VEVENT
DTSTART;TZID=America/New_York:20220110T080000
DTEND;TZID=America/New_York:20220110T170000
DTSTAMP:20260423T182039
CREATED:20220111T011405Z
LAST-MODIFIED:20220111T011405Z
UID:2164-1641801600-1641834000@stonebridgemensclub.com
SUMMARY:Fascinating Supreme Court Rivilary
DESCRIPTION:Feb 28 2022 event
URL:https://stonebridgemensclub.com/event/fascinating-supreme-court-rivilary/
END:VEVENT
BEGIN:VEVENT
DTSTART;TZID=America/New_York:20211206T190000
DTEND;TZID=America/New_York:20211206T213000
DTSTAMP:20260423T182039
CREATED:20211110T160747Z
LAST-MODIFIED:20211110T163221Z
UID:2078-1638817200-1638826200@stonebridgemensclub.com
SUMMARY:December Holiday Party
DESCRIPTION:Leading Music Historian: Vinnie Bruno on the Beach Boys\nclick image to enlarge \n 
URL:https://stonebridgemensclub.com/event/december-holiday-party/
LOCATION:Monroe Senior Center\, 12 Halsey Reed Road |\, Monroe Twp.\, NJ\, 08831
ATTACH;FMTTYPE=image/jpeg:https://stonebridgemensclub.com/wp-content/uploads/2021/11/vinney-bruno-blast2-1.jpg
END:VEVENT
BEGIN:VEVENT
DTSTART;TZID=America/New_York:20211025T190000
DTEND;TZID=America/New_York:20211025T210000
DTSTAMP:20260423T182039
CREATED:20210712T012131Z
LAST-MODIFIED:20210714T213126Z
UID:1940-1635188400-1635195600@stonebridgemensclub.com
SUMMARY:1960s Yankee Bat Boy
DESCRIPTION:
URL:https://stonebridgemensclub.com/event/1960s-yankee-bat-boy/
LOCATION:Clubhouse Ballroom
END:VEVENT
BEGIN:VEVENT
DTSTART;TZID=America/New_York:20210927T190000
DTEND;TZID=America/New_York:20210927T210000
DTSTAMP:20260423T182039
CREATED:20210712T011848Z
LAST-MODIFIED:20210712T012335Z
UID:1937-1632769200-1632776400@stonebridgemensclub.com
SUMMARY:Lighter Side of Sports
DESCRIPTION:
URL:https://stonebridgemensclub.com/event/lighter-side-of-sports/
LOCATION:Clubhouse Ballroom
END:VEVENT
BEGIN:VEVENT
DTSTART;TZID=America/New_York:20210820T170000
DTEND;TZID=America/New_York:20210820T203000
DTSTAMP:20260423T182039
CREATED:20210710T175811Z
LAST-MODIFIED:20210712T013021Z
UID:1913-1629478800-1629491400@stonebridgemensclub.com
SUMMARY:Monmouth Park - Aug 20
DESCRIPTION:MO0NMOUTH PARK -FRIDAY AUGUST 20
URL:https://stonebridgemensclub.com/event/1913/
LOCATION:Monmouth Park Racetrack\, Oceanport Ave\, Oceanport\, NJ
END:VEVENT
BEGIN:VEVENT
DTSTART;TZID=America/New_York:20210802T090000
DTEND;TZID=America/New_York:20210802T150000
DTSTAMP:20260423T182039
CREATED:20210711T111041Z
LAST-MODIFIED:20210711T111050Z
UID:1923-1627894800-1627916400@stonebridgemensclub.com
SUMMARY:Golf Outing - Aug 2
DESCRIPTION:20210802 golf outing
URL:https://stonebridgemensclub.com/event/golf-outing-aug-2/
END:VEVENT
BEGIN:VEVENT
DTSTART;TZID=America/New_York:20210726T190000
DTEND;TZID=America/New_York:20210726T193000
DTSTAMP:20260423T182039
CREATED:20210712T010233Z
LAST-MODIFIED:20210712T012846Z
UID:1932-1627326000-1627327800@stonebridgemensclub.com
SUMMARY:In The Bronx - July 26
DESCRIPTION:
URL:https://stonebridgemensclub.com/event/in-the-bronx-july-26/
LOCATION:Men’s Club Zoom\, zoom.us
END:VEVENT
BEGIN:VEVENT
DTSTART;TZID=America/New_York:20210720T190000
DTEND;TZID=America/New_York:20210720T220000
DTSTAMP:20260423T182039
CREATED:20210711T110540Z
LAST-MODIFIED:20210712T012935Z
UID:1921-1626807600-1626818400@stonebridgemensclub.com
SUMMARY:Trenton Thunder Stadium - July 20
DESCRIPTION:20210720 trenton stadium
URL:https://stonebridgemensclub.com/event/trenton-thunder-stadium-july-20/
LOCATION:Arm and Hammer Park\, Trenton\, NJ
END:VEVENT
BEGIN:VEVENT
DTSTART;TZID=America/New_York:20210628T070000
DTEND;TZID=America/New_York:20210628T203000
DTSTAMP:20260423T182039
CREATED:20210524T191307Z
LAST-MODIFIED:20210607T134445Z
UID:1878-1624863600-1624912200@stonebridgemensclub.com
SUMMARY:Mel Brooks turns 95
DESCRIPTION:John Kenrick\, leading entertainment historian presents a retrospective of Mel Brooks like.  as Mel turns 95!!
URL:https://stonebridgemensclub.com/event/mel-brooks-turns-95/
LOCATION:Men’s Club Zoom\, zoom.us
ATTACH;FMTTYPE=image/jpeg:https://stonebridgemensclub.com/wp-content/uploads/2021/06/MEL-BROOKS-062821.jpg
END:VEVENT
BEGIN:VEVENT
DTSTART;TZID=America/New_York:20210524T190000
DTEND;TZID=America/New_York:20210524T203000
DTSTAMP:20260423T182039
CREATED:20210512T132409Z
LAST-MODIFIED:20210512T132409Z
UID:1867-1621882800-1621888200@stonebridgemensclub.com
SUMMARY:Funny Boys from Brooklyn
DESCRIPTION:Eight of TV’s funniest came from Brooklyn. Noted entertainment historian Sal St George will refresh our memories
URL:https://stonebridgemensclub.com/event/funny-boys-from-brooklyn/
LOCATION:Mens Club Zoom
ATTACH;FMTTYPE=image/jpeg:https://stonebridgemensclub.com/wp-content/uploads/2021/05/SMC-052421-Funny-Boys.jpg
END:VEVENT
BEGIN:VEVENT
DTSTART;TZID=America/New_York:20210426T190000
DTEND;TZID=America/New_York:20210426T210000
DTSTAMP:20260423T182039
CREATED:20210222T185312Z
LAST-MODIFIED:20210222T185312Z
UID:1741-1619463600-1619470800@stonebridgemensclub.com
SUMMARY:Professor James Coll\, on JFK
DESCRIPTION:A talk\, Zoom Q&A for the whole community\, How the JFK Assassination Changed the Constitution
URL:https://stonebridgemensclub.com/event/professor-james-coll-on-jfk/
LOCATION:Men’s Club Zoom\, zoom.us
ATTACH;FMTTYPE=image/jpeg:https://stonebridgemensclub.com/wp-content/uploads/2021/02/2104260-Coll-onJFK.jpg
END:VEVENT
BEGIN:VEVENT
DTSTART;TZID=America/New_York:20210315T190000
DTEND;TZID=America/New_York:20210315T210000
DTSTAMP:20260423T182039
CREATED:20210205T211422Z
LAST-MODIFIED:20210301T202743Z
UID:1633-1615834800-1615842000@stonebridgemensclub.com
SUMMARY:Jim Leyritz
DESCRIPTION:
URL:https://stonebridgemensclub.com/event/jim-leyritz/
LOCATION:Men’s Club Zoom\, zoom.us
ATTACH;FMTTYPE=image/jpeg:https://stonebridgemensclub.com/wp-content/uploads/2021/03/JimLeyritz.jpg
END:VEVENT
BEGIN:VEVENT
DTSTART;TZID=America/New_York:20210222T190000
DTEND;TZID=America/New_York:20210222T210000
DTSTAMP:20260423T182039
CREATED:20210201T183619Z
LAST-MODIFIED:20210205T210907Z
UID:1627-1614020400-1614027600@stonebridgemensclub.com
SUMMARY:Dave Hoeffel\, Sirius XM "On Air" Personality
DESCRIPTION:
URL:https://stonebridgemensclub.com/event/dave-hoeffel-sirius-xm-on-air-personality/
ATTACH;FMTTYPE=image/png:https://stonebridgemensclub.com/wp-content/uploads/2021/02/DaveHoeffel.png
END:VEVENT
BEGIN:VEVENT
DTSTART;TZID=America/New_York:20210207T183000
DTEND;TZID=America/New_York:20210207T223000
DTSTAMP:20260423T182039
CREATED:20210205T212502Z
LAST-MODIFIED:20210205T212502Z
UID:1637-1612722600-1612737000@stonebridgemensclub.com
SUMMARY:Super Bowl LV
DESCRIPTION:
URL:https://stonebridgemensclub.com/event/super-bowl-lv/
LOCATION:CBS TV
ATTACH;FMTTYPE=image/png:https://stonebridgemensclub.com/wp-content/uploads/2021/02/SuperBowl-LV.png
END:VEVENT
BEGIN:VEVENT
DTSTART;TZID=America/New_York:20210125T190000
DTEND;TZID=America/New_York:20210125T210000
DTSTAMP:20260423T182039
CREATED:20201103T194914Z
LAST-MODIFIED:20201228T182714Z
UID:1577-1611601200-1611608400@stonebridgemensclub.com
SUMMARY:Super Bowl Preparation
DESCRIPTION:BY way of a pre-announcement\, (Still on Zoom)  Details to Follow \n\nStonebridge’s own Roy Cohen serving up Football Trivia\,\nwe’ll arrange  an on online Live Pull of the grid for the ever-popular Box Pool for the Super Bowl.
URL:https://stonebridgemensclub.com/event/super-bowl-preparation/
ATTACH;FMTTYPE=image/jpeg:https://stonebridgemensclub.com/wp-content/uploads/2020/11/RoyCohenSuperBowl.jpg
END:VEVENT
BEGIN:VEVENT
DTSTART;TZID=America/New_York:20201221T190000
DTEND;TZID=America/New_York:20201221T203000
DTSTAMP:20260423T182039
CREATED:20201026T184724Z
LAST-MODIFIED:20201026T184724Z
UID:1572-1608577200-1608582600@stonebridgemensclub.com
SUMMARY:Abe Vorensky\, a Comedy Historian brings us the Golden Age of TV
DESCRIPTION:
URL:https://stonebridgemensclub.com/event/abe-vorensky-a-comedy-historian-brings-us-the-golden-age-of-tv/
LOCATION:Men’s Club Zoom\, zoom.us
ATTACH;FMTTYPE=image/jpeg:https://stonebridgemensclub.com/wp-content/uploads/2020/10/AbeVorensky2020-12-21-1.jpg
END:VEVENT
BEGIN:VEVENT
DTSTART;TZID=America/New_York:20201123T190000
DTEND;TZID=America/New_York:20201123T203000
DTSTAMP:20260423T182039
CREATED:20201026T184339Z
LAST-MODIFIED:20201026T184339Z
UID:1569-1606158000-1606163400@stonebridgemensclub.com
SUMMARY:Vinnie Bruno on Zoom: the British Music Invasion
DESCRIPTION:
URL:https://stonebridgemensclub.com/event/vinnie-bruno-on-zoom-the-british-music-invasion/
LOCATION:Men’s Club Zoom\, zoom.us
ATTACH;FMTTYPE=image/jpeg:https://stonebridgemensclub.com/wp-content/uploads/2020/10/VinnieBruno2020-11-23.jpg
END:VEVENT
BEGIN:VEVENT
DTSTART;TZID=America/New_York:20201026T190000
DTEND;TZID=America/New_York:20201026T203000
DTSTAMP:20260423T182039
CREATED:20201024T152929Z
LAST-MODIFIED:20201024T155406Z
UID:1561-1603738800-1603744200@stonebridgemensclub.com
SUMMARY:Vinnie Mark Returns (on Zoom)
DESCRIPTION:
URL:https://stonebridgemensclub.com/event/vinnie-mark-returns-on-zoom/
LOCATION:Men’s Club Zoom\, zoom.us
ATTACH;FMTTYPE=image/jpeg:https://stonebridgemensclub.com/wp-content/uploads/2020/10/VinnieMarkOcbober.jpg
END:VEVENT
BEGIN:VEVENT
DTSTART;TZID=America/New_York:20200921T190000
DTEND;TZID=America/New_York:20200921T210000
DTSTAMP:20260423T182039
CREATED:20200907T161530Z
LAST-MODIFIED:20200907T161530Z
UID:1543-1600714800-1600722000@stonebridgemensclub.com
SUMMARY:Dr James Kane brings Six Presidents to Stonebridge
DESCRIPTION:
URL:https://stonebridgemensclub.com/event/dr-james-kane-brings-six-presidents-to-stonebridge/
LOCATION:Men’s Club Zoom\, zoom.us
ATTACH;FMTTYPE=image/jpeg:https://stonebridgemensclub.com/wp-content/uploads/2020/09/SixAmericanPresidents-1.jpg
END:VEVENT
BEGIN:VEVENT
DTSTART;TZID=America/New_York:20200824T190000
DTEND;TZID=America/New_York:20200824T203000
DTSTAMP:20260423T182039
CREATED:20200812T130502Z
LAST-MODIFIED:20200812T130502Z
UID:1520-1598295600-1598301000@stonebridgemensclub.com
SUMMARY:Mike Marino Returns
DESCRIPTION:Mike Marino is returning to Stonebridge in a live Zoom Presentation.
URL:https://stonebridgemensclub.com/event/mike-marino-returns/
LOCATION:Men’s Club Zoom\, zoom.us
ATTACH;FMTTYPE=image/jpeg:https://stonebridgemensclub.com/wp-content/uploads/2020/08/MikeMarino-8-24.jpg
END:VEVENT
END:VCALENDAR